BEGIN:VCALENDAR
VERSION:2.0
PRODID:-//The Sandy Castle - ECPv6.7.1//NONSGML v1.0//EN
CALSCALE:GREGORIAN
METHOD:PUBLISH
X-ORIGINAL-URL:https://sandycastlevb.com
X-WR-CALDESC:Events for The Sandy Castle
REFRESH-INTERVAL;VALUE=DURATION:PT1H
X-Robots-Tag:noindex
X-PUBLISHED-TTL:PT1H
BEGIN:VTIMEZONE
TZID:UTC
BEGIN:STANDARD
TZOFFSETFROM:+0000
TZOFFSETTO:+0000
TZNAME:UTC
DTSTART:20240101T000000
END:STANDARD
END:VTIMEZONE
BEGIN:VEVENT
DTSTART;TZID=UTC:20241005T090000
DTEND;TZID=UTC:20241006T180000
DTSTAMP:20260422T092412
CREATED:20210928T150421Z
LAST-MODIFIED:20241024T181435Z
UID:90-1728118800-1728237600@sandycastlevb.com
SUMMARY:Fil Fest USA 2024
DESCRIPTION:Join us for the 10th anniversary of Fil Fest USA\, for the first time in historic Portsmouth\, Virginia! This free\, outdoor festival celebrates the innovation\, talent\, and diversity of the Filipino community in Hampton Roads. \nLaskin\, Rudee and Birdneck will be hanging out in the Children’s Tent with Little Bricks Charity all weekend\, so come by\, say hello\, and grab a FREE Sandy Castle coloring sheet!
URL:https://sandycastlevb.com/event/filfest-2024
ATTACH;FMTTYPE=image/jpeg:https://sandycastlevb.com/wp-content/uploads/2021/09/462513408_558059523424371_7930139853490517412_n.jpg
END:VEVENT
BEGIN:VEVENT
DTSTART;TZID=UTC:20240928T113000
DTEND;TZID=UTC:20240928T180000
DTSTAMP:20260422T092412
CREATED:20210928T151005Z
LAST-MODIFIED:20241024T181533Z
UID:95-1727523000-1727546400@sandycastlevb.com
SUMMARY:50th Annual Virginia Beach Neptune Festival
DESCRIPTION:The Sandy Castle is heading to NEPTUNE FEST! We’re so excited to be making our big beach debut at the 50th Annual Virginia Beach Neptune Festival on September 28th! This historic event is happening all weekend\, but you can see us Saturday at the events below: \nGRAND PARADE – 11:30 AM – 1:00 PM Wave hello to Laskin\, Rudee and Birdneck as they strut down Atlantic Avenue! \nPOSEIDON’S PLAYGROUND – 5:00 PM – 6:00 PM Laskin\, Rudee and Birdneck will be hanging out\, taking photos\, and giving away free button pins!
URL:https://sandycastlevb.com/event/neptune-2024
ATTACH;FMTTYPE=image/jpeg:https://sandycastlevb.com/wp-content/uploads/2021/09/2019-BW-ART-SHOW.jpg
END:VEVENT
END:VCALENDAR